BEGIN:VCALENDAR
VERSION:2.0
PRODID:-//Burnout - ECPv5.4.0.2//NONSGML v1.0//EN
CALSCALE:GREGORIAN
METHOD:PUBLISH
X-WR-CALNAME:Burnout
X-ORIGINAL-URL:https://burnout.sk
X-WR-CALDESC:Udalosti pre Burnout
BEGIN:VTIMEZONE
TZID:Europe/Bratislava
BEGIN:DAYLIGHT
TZOFFSETFROM:+0100
TZOFFSETTO:+0200
TZNAME:CEST
DTSTART:20220327T010000
END:DAYLIGHT
BEGIN:STANDARD
TZOFFSETFROM:+0200
TZOFFSETTO:+0100
TZNAME:CET
DTSTART:20221030T010000
END:STANDARD
END:VTIMEZONE
BEGIN:VEVENT
DTSTART;TZID=Europe/Bratislava:20220429T083000
DTEND;TZID=Europe/Bratislava:20220429T100000
DTSTAMP:20260425T183048
CREATED:20220406T211113Z
LAST-MODIFIED:20220406T211113Z
UID:12354-1651221000-1651226400@burnout.sk
SUMMARY:Ako v tíme udržať iskru ale predísť vyhoreniu?
DESCRIPTION:Posledné obdobie sme neustále v “fight or flight” móde\, teda neustále čelíme stresorom. Ľudský organizmus nie je stavaný na tak intenzívnu a najmä dlhodobú psychickú záťaž. Dopláca na to naše zdravie\, rodina\, vzťahy a pracovné nasadenie. Nedostatok energie nás núti prehodnotiť\, či nám dáva zmysel investovať čas a naše osobné zdroje do práce\, firmy\, kariéry. \nMnohé firmy sú dnes v neustálej zmene\, transformácií\, re-štrukturalizácii. Ako manažér máte za úlohu previesť svoj tím zmenami\, priviesť ho k výsledkom\, ideálne v zdraví a dobrej nálade. Okrem toho vy sám/sama máte svoje vlastné ciele\, či už výkonové alebo rozvojové. \nKde na to všetko brať energiu? \nAko sa starať o seba a o svoj tím aby ste nečelili výpadkom šikovných a potrebných členov tímu kvôli PN-kám\, či dokonca výpovediam? \nNa webinári počas 90min budeme hovoriť aj:\n• O vyhorení ako procese\n• O najdôležitejších interných a externých faktoroch\, ktoré burnout spôsobujú\n• O tom\, čo robiť a čo nerobiť ako manažér tímu\n• O preventívnych opatreniach na individuálnej\, tímovej a organizačnej úrovni \nVysvetlíme si čo znamená a najmä čo prináša psychologické bezpečie pre výkon\, kreativitu a angažovanosť vašich kolegov v tíme. \nOdniesiete si praktické tipy ako rozpoznať a osloviť tému vyhorenia v tíme a aké preventívne opatrenia robiť keď čelíte náročným obdobiam.
URL:https://burnout.sk/udalost/ako-v-time-udrzat-iskru-ale-predist-vyhoreniu/
END:VEVENT
END:VCALENDAR